BEGIN:VCALENDAR
VERSION:2.0
PRODID:-//浙江交响乐团 - ECPv6.14.2//NONSGML v1.0//EN
CALSCALE:GREGORIAN
METHOD:PUBLISH
X-WR-CALNAME:浙江交响乐团
X-ORIGINAL-URL:https://www.zjso.org
X-WR-CALDESC:浙江交响乐团的活动
REFRESH-INTERVAL;VALUE=DURATION:PT1H
X-Robots-Tag:noindex
X-PUBLISHED-TTL:PT1H
BEGIN:VTIMEZONE
TZID:Asia/Shanghai
BEGIN:STANDARD
TZOFFSETFROM:+0800
TZOFFSETTO:+0800
TZNAME:CST
DTSTART:20250101T000000
END:STANDARD
END:VTIMEZONE
BEGIN:VEVENT
DTSTART;TZID=Asia/Shanghai:20251114T193000
DTEND;TZID=Asia/Shanghai:20251114T210000
DTSTAMP:20260419T211451
CREATED:20250616T052323Z
LAST-MODIFIED:20250728T073119Z
UID:8138-1763148600-1763154000@www.zjso.org
SUMMARY:浙江交响乐团2025年音乐季 (总第205期)斯拉夫之光
DESCRIPTION:指挥介绍\n \n谭利华 指挥家 \n活跃在当今国际、国内乐坛我国最著名的指挥家之一。他曾应邀指挥俄罗斯国家交响乐团、伦敦爱乐乐团、以色列爱乐乐团、西德广播交响乐团、柏林交响乐团、法国图卢兹国家交响乐团、比利时国家交响乐团、捷克国家交响乐团、奥地利布鲁克纳交响乐团等数十个国际优秀乐团。被西方媒体誉为“指挥风格优雅流畅，具有高超的技巧和感人的艺术魅力的指挥家”。 \n谭利华于1991年至1995年任原中央乐团交响乐队指挥，现任中国交响乐团首席客座指挥、中央芭蕾舞团交响乐团首席客座指挥。第十、十一、十二届全国政协委员，中国音乐家协会第六、七、八届副主席，第三、四、五届北京音乐家协会主席，国家大剧院艺术委员会副主任、中国交响乐发展基金会副理事长。从1992年起担任北京交响乐团团长、艺术总监、首席指挥达26年。2001年至2013年，谭利华七度率北京交响乐团在欧洲巡演均获得了巨大成功并引起轰动。2012年德沃夏克学会、德沃夏克音乐节和德沃夏克家族联合授予谭利华“杰出艺术家”奖，以表彰他在中国首演多部德式音乐作品的贡献。2013年10月北京交响乐团成功完成首次赴美洲巡演，所到之处获得热烈反响，美国发行量最大的华盛顿邮报通栏标题称“北京交响乐团掀起古典音乐热潮”。 \n谭利华多次指挥中国交响乐团、北京交响乐团参加“APEC”“一带一路”“金砖国家领导人会议”“中非论坛”等大型国事活动音乐会的演出。谭利华自1997年开始参与创办、策划北京新年音乐会，目前这一音乐会已经成为北京市民欢度新年不可缺少的文化盛事，谭利华是唯一一位担任了全部新年音乐会的音乐顾问和指挥的音乐家。谭利华多年以来大力倡导和推动中国当代交响乐作品的创作与演出，数十位中国作曲家的百余部新作品是由他指挥首演的。自2007年开始，谭利华与EMI唱片公司，在全球发行了由他指挥北京交响乐团录制的八张唱片，成为首个与EMI合作录制唱片的中国指挥家和乐团。 \n大提琴演奏\n \n李拉 小提琴演奏家 \n曾就读于上海音乐学院附小和茱莉亚音乐学院预科。自 2018 年起，李拉就读于德国克朗伯格音乐学院师从大提琴演奏家弗朗兹·海莫森，19 岁获得硕士学位，现继续在克朗伯格音乐学院攻读演奏家(博士)学位。李拉曾获日本大阪、克罗地亚杨尼格洛、巴黎富勒姆国际音乐比赛大提琴组的冠军。 \n2014年李拉获莫斯科柴可夫斯基国际青少年音乐比赛大提琴组冠军。曾在多个享有盛誉的国际国内舞台上演出，包括韦尔比耶音乐节、中国国家大剧院、北京中山音乐堂、上海音乐厅、广州大剧院、江苏大剧院等;她合作的乐团包括:罗马小交响乐团、东京交响乐团、莫斯科名家室内乐团、韦尔比耶室内乐团、中国国家大剧院管弦乐团、西安交响乐团、昆明聂耳交响乐团等。合作过的指挥家包括瓦莱里·捷杰耶夫、克斯利托夫·艾申巴赫、盖伯尔·塔卡克斯-纳吉、弗拉基米尔·斯皮瓦科夫、尤里·特卡琴科、汤沐海、张国勇、钱骏平等。在室内乐演奏领域，她曾与大卫·格林加斯、塔贝亚·齐默尔曼、安东尼·塔弥斯蒂特等名家大师们同台合作。 \n  \n音乐会曲目\n《斯拉夫舞曲》第一号 \n安东·德沃夏克 \n《b小调大提琴协奏曲》 \n安东·德沃夏克 \n《e小调第九(自新世界)交响曲》 \n安东·德沃夏克
URL:https://www.zjso.org/event/zjsoseason205/
LOCATION:杭州运河大剧院歌剧厅\, 浙江省杭州市拱墅区桥弄街399号
ATTACH;FMTTYPE=image/jpeg:https://www.zjso.org/wp-content/uploads/2024/12/浙江交响乐团2024年音乐季-总第211期新年音乐会.jpg
END:VEVENT
END:VCALENDAR